BEGIN:VCALENDAR
VERSION:2.0
PRODID:-//Two Bees Lavender - ECPv6.15.20//NONSGML v1.0//EN
CALSCALE:GREGORIAN
METHOD:PUBLISH
X-WR-CALNAME:Two Bees Lavender
X-ORIGINAL-URL:https://twobeeslavender.com
X-WR-CALDESC:Events for Two Bees Lavender
REFRESH-INTERVAL;VALUE=DURATION:PT1H
X-Robots-Tag:noindex
X-PUBLISHED-TTL:PT1H
BEGIN:VTIMEZONE
TZID:America/New_York
BEGIN:DAYLIGHT
TZOFFSETFROM:-0500
TZOFFSETTO:-0400
TZNAME:EDT
DTSTART:20240310T070000
END:DAYLIGHT
BEGIN:STANDARD
TZOFFSETFROM:-0400
TZOFFSETTO:-0500
TZNAME:EST
DTSTART:20241103T060000
END:STANDARD
BEGIN:DAYLIGHT
TZOFFSETFROM:-0500
TZOFFSETTO:-0400
TZNAME:EDT
DTSTART:20250309T070000
END:DAYLIGHT
BEGIN:STANDARD
TZOFFSETFROM:-0400
TZOFFSETTO:-0500
TZNAME:EST
DTSTART:20251102T060000
END:STANDARD
BEGIN:DAYLIGHT
TZOFFSETFROM:-0500
TZOFFSETTO:-0400
TZNAME:EDT
DTSTART:20260308T070000
END:DAYLIGHT
BEGIN:STANDARD
TZOFFSETFROM:-0400
TZOFFSETTO:-0500
TZNAME:EST
DTSTART:20261101T060000
END:STANDARD
BEGIN:DAYLIGHT
TZOFFSETFROM:-0500
TZOFFSETTO:-0400
TZNAME:EDT
DTSTART:20270314T070000
END:DAYLIGHT
BEGIN:STANDARD
TZOFFSETFROM:-0400
TZOFFSETTO:-0500
TZNAME:EST
DTSTART:20271107T060000
END:STANDARD
END:VTIMEZONE
BEGIN:VEVENT
DTSTART;TZID=America/New_York:20260329T120000
DTEND;TZID=America/New_York:20260329T160000
DTSTAMP:20260419T211326
CREATED:20260324T211347Z
LAST-MODIFIED:20260325T205308Z
UID:2577-1774785600-1774800000@twobeeslavender.com
SUMMARY:Daffodil Festival (Sunday)
DESCRIPTION:The festival will bring more than 200 unique vendors to Gloucester Main Street\, including Two Bees Lavender\, alongside delicious food\, local treasures\, and engaging activities for all ages.
URL:https://twobeeslavender.com/event/daffodil-festival-sunday/
LOCATION:Gloucester Main Street\, Gloucester\, VA\, United States
ATTACH;FMTTYPE=image/webp:https://twobeeslavender.com/wp-content/uploads/2026/03/Daffodil-Festival-e1774471934709.webp
END:VEVENT
BEGIN:VEVENT
DTSTART;TZID=America/New_York:20260328T090000
DTEND;TZID=America/New_York:20260328T160000
DTSTAMP:20260419T211326
CREATED:20260324T210757Z
LAST-MODIFIED:20260325T205223Z
UID:2578-1774688400-1774713600@twobeeslavender.com
SUMMARY:Daffodil Festival (Saturday)
DESCRIPTION:The festival will bring more than 200 unique vendors to Gloucester Main Street\, including Two Bees Lavender\, alongside delicious food\, local treasures\, and engaging activities for all ages.
URL:https://twobeeslavender.com/event/daffodil-festival-saturday/
LOCATION:Gloucester Main Street\, Gloucester\, VA\, United States
ATTACH;FMTTYPE=image/webp:https://twobeeslavender.com/wp-content/uploads/2026/03/Daffodil-Festival-e1774471934709.webp
END:VEVENT
BEGIN:VEVENT
DTSTART;TZID=America/New_York:20251213T110000
DTEND;TZID=America/New_York:20251213T190000
DTSTAMP:20260419T211326
CREATED:20251012T183010Z
LAST-MODIFIED:20251012T183010Z
UID:2297-1765623600-1765652400@twobeeslavender.com
SUMMARY:Christmas Town
DESCRIPTION:
URL:https://twobeeslavender.com/event/christmas-town/
LOCATION:Town of Warsaw\, 171 Main Street\, Warsaw\, VA\, 22752\, United States
END:VEVENT
BEGIN:VEVENT
DTSTART;TZID=America/New_York:20251207T110000
DTEND;TZID=America/New_York:20251207T150000
DTSTAMP:20260419T211326
CREATED:20251012T182808Z
LAST-MODIFIED:20251012T182808Z
UID:2296-1765105200-1765119600@twobeeslavender.com
SUMMARY:Christmas Market on Main
DESCRIPTION:
URL:https://twobeeslavender.com/event/christmas-market-on-main-2/
LOCATION:Yorktown Historic Main Street\, 301 Main Street\, Yorktown\, VA\, 23690
END:VEVENT
BEGIN:VEVENT
DTSTART;TZID=America/New_York:20251206T100000
DTEND;TZID=America/New_York:20251206T150000
DTSTAMP:20260419T211326
CREATED:20251012T182657Z
LAST-MODIFIED:20251012T182657Z
UID:2294-1765015200-1765033200@twobeeslavender.com
SUMMARY:Christmas Market on Main
DESCRIPTION:
URL:https://twobeeslavender.com/event/christmas-market-on-main/
LOCATION:Yorktown Historic Main Street\, 301 Main Street\, Yorktown\, VA\, 23690
END:VEVENT
BEGIN:VEVENT
DTSTART;TZID=America/New_York:20251122T120000
DTEND;TZID=America/New_York:20251122T160000
DTSTAMP:20260419T211326
CREATED:20250923T003948Z
LAST-MODIFIED:20250923T003948Z
UID:2241-1763812800-1763827200@twobeeslavender.com
SUMMARY:Taste on the Point
DESCRIPTION:We’re excited to be a vendor at Taste on the Point\, a ticketed celebration of local food\, drinks\, and community on the Point. Join Two Bees Lavender at our booth—discover handcrafted lavender products\, from calming comforts to unique gifts\, and experience how we bring relaxation and joy to every occasion. Tickets are required; purchase yours ahead of time via the official Taste on the Point website.
URL:https://twobeeslavender.com/event/taste-on-the-point/
LOCATION:Windmill Point Marina & Westland Beach
CATEGORIES:Markets
END:VEVENT
BEGIN:VEVENT
DTSTART;VALUE=DATE:20251115
DTEND;VALUE=DATE:20251116
DTSTAMP:20260419T211326
CREATED:20250904T024922Z
LAST-MODIFIED:20251028T045937Z
UID:2168-1763164800-1763251199@twobeeslavender.com
SUMMARY:Wine Balloons and Tunes at Wind Vineyards
DESCRIPTION:
URL:https://twobeeslavender.com/event/wind-vineyards-hot-air-balloon-and-music-festival/
LOCATION:WInd Vineyards of Laurel Grove\, 854 Dunbrooke Rd\, Tappahannock\, VA\, 23560
ATTACH;FMTTYPE=image/jpeg:https://twobeeslavender.com/wp-content/uploads/2025/09/shutterstock_2499558087-scaled.jpeg
ORGANIZER;CN="Wind VIneyards at Laurel Grove":MAILTO:windvineyards@gmail.com
END:VEVENT
BEGIN:VEVENT
DTSTART;VALUE=DATE:20251114
DTEND;VALUE=DATE:20251115
DTSTAMP:20260419T211326
CREATED:20250904T024412Z
LAST-MODIFIED:20251028T045946Z
UID:2165-1763078400-1763164799@twobeeslavender.com
SUMMARY:Wine Balloons and Tunes at Wind Vineyards
DESCRIPTION:
URL:https://twobeeslavender.com/event/wind-vineyards-hot-air-balloons-and-music-festival/
LOCATION:Wind Vineyard at Laurel Grove\, 854 Dunbrooke Rd\, Tappahannock\, VA\, 23560
ATTACH;FMTTYPE=image/jpeg:https://twobeeslavender.com/wp-content/uploads/2025/09/shutterstock_2499558087-scaled.jpeg
ORGANIZER;CN="Wind VIneyards at Laurel Grove":MAILTO:windvineyards@gmail.com
END:VEVENT
BEGIN:VEVENT
DTSTART;TZID=America/New_York:20251101T090000
DTEND;TZID=America/New_York:20251101T130000
DTSTAMP:20260419T211326
CREATED:20250219T024739Z
LAST-MODIFIED:20250219T024739Z
UID:2050-1761987600-1762002000@twobeeslavender.com
SUMMARY:Irvington Farmer's Market
DESCRIPTION:
URL:https://twobeeslavender.com/event/irvington-farmers-market-6/
LOCATION:Irvington\, VA
ATTACH;FMTTYPE=image/jpeg:https://twobeeslavender.com/wp-content/uploads/2025/02/a1b8f22efc2e0f9d30d84748aee8303d0f5a51e6-342x305-1.jpg
END:VEVENT
BEGIN:VEVENT
DTSTART;TZID=America/New_York:20251031T180000
DTEND;TZID=America/New_York:20251031T220000
DTSTAMP:20260419T211326
CREATED:20251012T181204Z
LAST-MODIFIED:20251012T181204Z
UID:2286-1761933600-1761948000@twobeeslavender.com
SUMMARY:Halloween Bash @ Alewerks Brewery
DESCRIPTION:
URL:https://twobeeslavender.com/event/halloween-bash-alewerks-brewery/
LOCATION:Alewerks Brewery\, 189B Ewell Rd\, Williamsburg\, VA\, 23188
END:VEVENT
BEGIN:VEVENT
DTSTART;TZID=America/New_York:20251012T100000
DTEND;TZID=America/New_York:20251012T160000
DTSTAMP:20260419T211326
CREATED:20250904T020038Z
LAST-MODIFIED:20250904T020131Z
UID:2162-1760263200-1760284800@twobeeslavender.com
SUMMARY:Fall into Kilmarnock
DESCRIPTION:
URL:https://twobeeslavender.com/event/fall-into-kilmarnock/
LOCATION:VA
END:VEVENT
BEGIN:VEVENT
DTSTART;TZID=America/New_York:20251011T100000
DTEND;TZID=America/New_York:20251011T160000
DTSTAMP:20260419T211326
CREATED:20250904T020414Z
LAST-MODIFIED:20250907T195844Z
UID:2164-1760176800-1760198400@twobeeslavender.com
SUMMARY:Fall into Kilmarnock
DESCRIPTION:
URL:https://twobeeslavender.com/event/fall-into-kilmarnock-2/
LOCATION:VA
END:VEVENT
BEGIN:VEVENT
DTSTART;TZID=America/New_York:20251004T090000
DTEND;TZID=America/New_York:20251004T130000
DTSTAMP:20260419T211326
CREATED:20250219T024503Z
LAST-MODIFIED:20250219T024503Z
UID:2049-1759568400-1759582800@twobeeslavender.com
SUMMARY:Irvington Farmer's Market
DESCRIPTION:
URL:https://twobeeslavender.com/event/irvington-farmers-market-5/
LOCATION:Irvington\, VA
ATTACH;FMTTYPE=image/jpeg:https://twobeeslavender.com/wp-content/uploads/2025/02/a1b8f22efc2e0f9d30d84748aee8303d0f5a51e6-342x305-1.jpg
END:VEVENT
BEGIN:VEVENT
DTSTART;TZID=America/New_York:20250920T090000
DTEND;TZID=America/New_York:20250920T130000
DTSTAMP:20260419T211326
CREATED:20250219T024953Z
LAST-MODIFIED:20250219T024953Z
UID:2051-1758358800-1758373200@twobeeslavender.com
SUMMARY:Heathsville Farmer's Market
DESCRIPTION:
URL:https://twobeeslavender.com/event/heathsville-farmers-market-5/
LOCATION:Heathsville\, VA
ATTACH;FMTTYPE=image/jpeg:https://twobeeslavender.com/wp-content/uploads/2025/02/470001861_604683432234039_4549591258956998122_n.jpg
END:VEVENT
BEGIN:VEVENT
DTSTART;TZID=America/New_York:20250906T090000
DTEND;TZID=America/New_York:20250906T130000
DTSTAMP:20260419T211326
CREATED:20250219T024314Z
LAST-MODIFIED:20250219T024314Z
UID:2048-1757149200-1757163600@twobeeslavender.com
SUMMARY:Irvington Farmer's Market
DESCRIPTION:
URL:https://twobeeslavender.com/event/irvington-farmers-market-4/
LOCATION:Heathsville\, VA
ATTACH;FMTTYPE=image/jpeg:https://twobeeslavender.com/wp-content/uploads/2025/02/a1b8f22efc2e0f9d30d84748aee8303d0f5a51e6-342x305-1.jpg
END:VEVENT
BEGIN:VEVENT
DTSTART;TZID=America/New_York:20250816T090000
DTEND;TZID=America/New_York:20250816T130000
DTSTAMP:20260419T211327
CREATED:20250219T024124Z
LAST-MODIFIED:20250219T024124Z
UID:2047-1755334800-1755349200@twobeeslavender.com
SUMMARY:Heathsville Farmer's Market
DESCRIPTION:
URL:https://twobeeslavender.com/event/heathsville-farmers-market-4/
LOCATION:Heathsville\, VA
ATTACH;FMTTYPE=image/jpeg:https://twobeeslavender.com/wp-content/uploads/2025/02/470001861_604683432234039_4549591258956998122_n.jpg
END:VEVENT
BEGIN:VEVENT
DTSTART;TZID=America/New_York:20250802T090000
DTEND;TZID=America/New_York:20250802T130000
DTSTAMP:20260419T211327
CREATED:20250219T023827Z
LAST-MODIFIED:20250219T023827Z
UID:2046-1754125200-1754139600@twobeeslavender.com
SUMMARY:Irvington Farmer's Market
DESCRIPTION:
URL:https://twobeeslavender.com/event/irvington-farmers-market-3/
LOCATION:Heathsville\, VA
ATTACH;FMTTYPE=image/jpeg:https://twobeeslavender.com/wp-content/uploads/2025/02/a1b8f22efc2e0f9d30d84748aee8303d0f5a51e6-342x305-1.jpg
END:VEVENT
BEGIN:VEVENT
DTSTART;TZID=America/New_York:20250719T090000
DTEND;TZID=America/New_York:20250719T130000
DTSTAMP:20260419T211327
CREATED:20250219T023403Z
LAST-MODIFIED:20250219T023403Z
UID:2045-1752915600-1752930000@twobeeslavender.com
SUMMARY:Heathsville Farmer's Market
DESCRIPTION:
URL:https://twobeeslavender.com/event/heathsville-farmers-market-3/
LOCATION:Heathsville\, VA
ATTACH;FMTTYPE=image/jpeg:https://twobeeslavender.com/wp-content/uploads/2025/02/470001861_604683432234039_4549591258956998122_n.jpg
END:VEVENT
END:VCALENDAR